BEGIN:VCALENDAR
PRODID:-//Microsoft Corporation//Outlook 16.0 MIMEDIR//EN
VERSION:2.0
METHOD:REQUEST
X-MS-OLK-FORCEINSPECTOROPEN:TRUE
BEGIN:VTIMEZONE
TZID:FLE Standard Time
BEGIN:STANDARD
DTSTART:16011028T040000
RRULE:FREQ=YEARLY;BYDAY=-1SU;BYMONTH=10
TZOFFSETFROM:+0300
TZOFFSETTO:+0200
END:STANDARD
BEGIN:DAYLIGHT
DTSTART:16010325T030000
RRULE:FREQ=YEARLY;BYDAY=-1SU;BYMONTH=3
TZOFFSETFROM:+0200
TZOFFSETTO:+0300
END:DAYLIGHT
END:VTIMEZONE
BEGIN:VEVENT
ATTENDEE;CN="Pasi Ahola";RSVP=TRUE:mailto:pasi.ahola@taipuva.com
ATTENDEE;CN="Tapio Tuomola";RSVP=TRUE:mailto:tapio.tuomola@taipuva.com
ATTENDEE;CN="Heikki Anttila";RSVP=TRUE:mailto:heikki.anttila@taipuva.com
ATTENDEE;CN="Tord Ringenhall";RSVP=TRUE:mailto:tord.ringenhall@taipuva.com
ATTENDEE;CN="Gunilla McLeod";RSVP=TRUE:mailto:gunilla.mcleod@taipuva.com
CLASS:PUBLIC
CREATED:20220225T092315Z
DESCRIPTION: \n\nGET TO KNOW POLARION’S BENEFITS\n\n\n\nThis is a live pr
	esentation and demo – an easy way for you to understand the essence of t
	his remarkable tool\, and why it makes a difference. \n\nWith more than 10
	 years of experience Taipuva compresses it all to a nutshell. The webinar 
	is suitable for all industries and disciplines.\n\nTime: Tuesday\, 8. Marc
	h 15:00-16:00 CET (Sweden/Denmark time zone)\n\n\n\n \n\n_________________
	_______________________________________________________________ \n\nMicros
	oft Teams meeting \n\nJoin on your computer or mobile app \n\nClick here t
	o join the meeting <https://teams.microsoft.com/l/meetup-join/19%3ameeting
	_MGY1YjIxNjMtZmNkNi00Yzc1LThlOWQtZGJjNTIwOGE5MmRj%40thread.v2/0?context=%7
	b%22Tid%22%3a%227358e5ae-f310-4246-a3e6-462ea77acd5e%22%2c%22Oid%22%3a%228
	7c6e009-cae9-4b16-8143-7ad3738f7d80%22%7d>  \n\nLearn More <https://aka.ms
	/JoinTeamsMeeting>  | Meeting options <https://teams.microsoft.com/meeting
	Options/?organizerId=87c6e009-cae9-4b16-8143-7ad3738f7d80&tenantId=7358e5a
	e-f310-4246-a3e6-462ea77acd5e&threadId=19_meeting_MGY1YjIxNjMtZmNkNi00Yzc1
	LThlOWQtZGJjNTIwOGE5MmRj@thread.v2&messageId=0&language=en-US>  \n\n______
	__________________________________________________________________________
	 \n\n \n\n
DTEND;TZID="FLE Standard Time":20220308T170000
DTSTAMP:20220225T092037Z
DTSTART;TZID="FLE Standard Time":20220308T160000
LAST-MODIFIED:20220225T092315Z
LOCATION:Microsoft Teams Meeting
ORGANIZER;CN="Roope Järvinen":mailto:roope.jarvinen@taipuva.com
PRIORITY:5
SEQUENCE:0
SUMMARY;LANGUAGE=en-fi:"Polarion Overview" - Webinar
TRANSP:OPAQUE
UID:040000008200E00074C5B7101A82E0080000000090D8EE6A392AD801000000000000000
	010000000306176FC9E561740A1A75D98EF84FD5C
X-ALT-DESC;FMTTYPE=text/html:<html xmlns:v="urn:schemas-microsoft-com:vml" 
	xmlns:o="urn:schemas-microsoft-com:office:office" xmlns:w="urn:schemas-mic
	rosoft-com:office:word" xmlns:m="http://schemas.microsoft.com/office/2004/
	12/omml" xmlns="http://www.w3.org/TR/REC-html40"><head><meta name=Generato
	r content="Microsoft Word 15 (filtered medium)"><style><!--\n/* Font Defin
	itions */\n@font-face\n	{font-family:"Cambria Math"\;\n	panose-1:2 4 5 3 5
	 4 6 3 2 4\;}\n@font-face\n	{font-family:Calibri\;\n	panose-1:2 15 5 2 2 2
	 4 3 2 4\;}\n@font-face\n	{font-family:"Segoe UI"\;\n	panose-1:2 11 5 2 4 
	2 4 2 2 3\;}\n@font-face\n	{font-family:"Segoe UI Semibold"\;\n	panose-1:2
	 11 7 2 4 2 4 2 2 3\;}\n/* Style Definitions */\np.MsoNormal\, li.MsoNorma
	l\, div.MsoNormal\n	{margin:0cm\;\n	font-size:11.0pt\;\n	font-family:"Cali
	bri"\,sans-serif\;\n	mso-fareast-language:EN-US\;}\na:link\, span.MsoHyper
	link\n	{mso-style-priority:99\;\n	color:#0563C1\;\n	text-decoration:underl
	ine\;}\nspan.EmailStyle17\n	{mso-style-type:personal-compose\;\n	font-fami
	ly:"Calibri"\,sans-serif\;\n	color:windowtext\;}\n.MsoChpDefault\n	{mso-st
	yle-type:export-only\;\n	font-family:"Calibri"\,sans-serif\;\n	mso-fareast
	-language:EN-US\;}\n@page WordSection1\n	{size:612.0pt 792.0pt\;\n	margin:
	72.0pt 72.0pt 72.0pt 72.0pt\;}\ndiv.WordSection1\n	{page:WordSection1\;}\n
	--></style><!--[if gte mso 9]><xml>\n<o:shapedefaults v:ext="edit" spidmax
	="1026" />\n</xml><![endif]--><!--[if gte mso 9]><xml>\n<o:shapelayout v:e
	xt="edit">\n<o:idmap v:ext="edit" data="1" />\n</o:shapelayout></xml><![en
	dif]--></head><body lang=en-FI link="#0563C1" vlink="#954F72" style='word-
	wrap:break-word'><div class=WordSection1><p class=MsoNormal><b><span lang=
	en-FI><o:p>&nbsp\;</o:p></span></b></p><p class=MsoNormal><b><span lang=en
	-FI>GET TO KNOW POLARION’S BENEFITS<br><br><o:p></o:p></span></b></p><p 
	class=MsoNormal><span lang=en-FI>This is a live presentation and demo – 
	an easy way for you to understand the essence of this remarkable tool\, an
	d why it makes a difference. <br><br>With more than 10 years of experience
	 Taipuva compresses it all to a nutshell. The webinar is suitable for all 
	industries and disciplines.<br><br><strong><span style='font-family:"Calib
	ri"\,sans-serif'>Time:&nbsp\;Tuesday\, 8. March 15:00-16:00 CET (Sweden/De
	nmark time zone)</span></strong><br><br><o:p></o:p></span></p><p class=Mso
	Normal><span lang=en-FI><o:p>&nbsp\;</o:p></span></p><div><p class=MsoNorm
	al><span lang=en-FI style='color:#5F5F5F'>________________________________
	________________________________________________</span><span lang=en-FI> <
	o:p></o:p></span></p></div><div><div style='margin-top:18.0pt\;margin-bott
	om:15.0pt'><p class=MsoNormal><span lang=EN-US style='font-size:18.0pt\;fo
	nt-family:"Segoe UI"\,sans-serif\;color:#252424'>Microsoft Teams meeting</
	span><span lang=EN-US style='font-family:"Segoe UI"\,sans-serif\;color:#25
	2424'> <o:p></o:p></span></p></div><div style='margin-bottom:15.0pt'><div>
	<p class=MsoNormal><b><span lang=EN-US style='font-size:10.5pt\;font-famil
	y:"Segoe UI"\,sans-serif\;color:#252424'>Join on your computer or mobile a
	pp</span></b><b><span lang=EN-US style='font-family:"Segoe UI"\,sans-serif
	\;color:#252424'> <o:p></o:p></span></b></p></div><p class=MsoNormal><span
	 lang=EN-US style='font-family:"Segoe UI"\,sans-serif\;color:#252424'><a h
	ref="https://teams.microsoft.com/l/meetup-join/19%3ameeting_MGY1YjIxNjMtZm
	NkNi00Yzc1LThlOWQtZGJjNTIwOGE5MmRj%40thread.v2/0?context=%7b%22Tid%22%3a%2
	27358e5ae-f310-4246-a3e6-462ea77acd5e%22%2c%22Oid%22%3a%2287c6e009-cae9-4b
	16-8143-7ad3738f7d80%22%7d" target="_blank"><span style='font-size:10.5pt\
	;font-family:"Segoe UI Semibold"\,sans-serif\;color:#6264A7'>Click here to
	 join the meeting</span></a> <o:p></o:p></span></p></div><div style='margi
	n-top:15.0pt\;margin-bottom:18.0pt'><p class=MsoNormal><span lang=EN-US st
	yle='font-family:"Segoe UI"\,sans-serif\;color:#252424'><a href="https://a
	ka.ms/JoinTeamsMeeting" target="_blank"><span style='font-size:10.5pt\;col
	or:#6264A7'>Learn More</span></a> | <a href="https://teams.microsoft.com/m
	eetingOptions/?organizerId=87c6e009-cae9-4b16-8143-7ad3738f7d80&amp\;tenan
	tId=7358e5ae-f310-4246-a3e6-462ea77acd5e&amp\;threadId=19_meeting_MGY1YjIx
	NjMtZmNkNi00Yzc1LThlOWQtZGJjNTIwOGE5MmRj@thread.v2&amp\;messageId=0&amp\;l
	anguage=en-US" target="_blank"><span style='font-size:10.5pt\;color:#6264A
	7'>Meeting options</span></a> <o:p></o:p></span></p></div></div><div><p cl
	ass=MsoNormal><span lang=en-FI style='color:#5F5F5F'>_____________________
	___________________________________________________________</span><span la
	ng=en-FI> </span><o:p></o:p></p></div><p class=MsoNormal><span lang=en-FI>
	<o:p>&nbsp\;</o:p></span></p></div></body></html>
X-MICROSOFT-CDO-BUSYSTATUS:BUSY
X-MICROSOFT-CDO-IMPORTANCE:1
X-MICROSOFT-DISALLOW-COUNTER:FALSE
X-MS-OLK-APPTSEQTIME:20220225T092037Z
X-MS-OLK-AUTOFILLLOCATION:FALSE
X-MS-OLK-CONFTYPE:0
BEGIN:VALARM
TRIGGER:-PT15M
ACTION:DISPLAY
DESCRIPTION:Reminder
END:VALARM
END:VEVENT
END:VCALENDAR
